BEGIN:VCALENDAR
VERSION:2.0
PRODID:-//Adult Learners, Inc. - ECPv6.0.10//NONSGML v1.0//EN
CALSCALE:GREGORIAN
METHOD:PUBLISH
X-WR-CALNAME:Adult Learners, Inc.
X-ORIGINAL-URL:https://adultlearnersinc.org
X-WR-CALDESC:Events for Adult Learners, Inc.
REFRESH-INTERVAL;VALUE=DURATION:PT1H
X-Robots-Tag:noindex
X-PUBLISHED-TTL:PT1H
BEGIN:VTIMEZONE
TZID:UTC
BEGIN:STANDARD
TZOFFSETFROM:+0000
TZOFFSETTO:+0000
TZNAME:UTC
DTSTART:20180101T000000
END:STANDARD
END:VTIMEZONE
BEGIN:VEVENT
DTSTART;TZID=UTC:20190302T080000
DTEND;TZID=UTC:20190302T170000
DTSTAMP:20260423T214902
CREATED:20180926T043111Z
LAST-MODIFIED:20180926T043111Z
UID:152-1551513600-1551546000@adultlearnersinc.org
SUMMARY:2019 Bison Financial Group and Adult Learners\, Inc. Scripps Regional Spelling Bee
DESCRIPTION:
URL:https://adultlearnersinc.org/event/2019-bison-financial-group-and-adult-learners-inc-scripps-regional-spelling-bee/
LOCATION:Faith Christian School\, 5526 State Road 26\, Lafayette\, IN\, United States
END:VEVENT
BEGIN:VEVENT
DTSTART;TZID=UTC:20180331T233000
DTEND;TZID=UTC:20180331T233000
DTSTAMP:20260423T214902
CREATED:20171214T152728Z
LAST-MODIFIED:20171214T152728Z
UID:108-1522539000-1522539000@adultlearnersinc.org
SUMMARY:ALI Quarterly Scholarship Deadline
DESCRIPTION:Submit your scholarship applications by this date. \nAdult Learners Incorporated Scholarship Application
URL:https://adultlearnersinc.org/event/ali-quarterly-scholarship-deadline/
LOCATION:IN
ATTACH;FMTTYPE=image/jpeg:https://adultlearnersinc.org/wp-content/uploads/2017/12/classroom.jpg
END:VEVENT
BEGIN:VEVENT
DTSTART;VALUE=DATE:20180303
DTEND;VALUE=DATE:20180304
DTSTAMP:20260423T214902
CREATED:20171204T211216Z
LAST-MODIFIED:20180124T211854Z
UID:69-1520035200-1520121599@adultlearnersinc.org
SUMMARY:Scripps Regional Spelling Bee
DESCRIPTION:28th Annual Scripps Regional Spelling Bee\nSee Brochure here: Scripps 2018 Brochure \nPremier Sponsor: Bison Financial Group\n \nOther sponsorship partners for the Scripps Regional Spelling Bee include: \n\nEric Harmon State Farm Insurance\nFinancial Enhancement Group\nHorizon Bank\nJames and JoAnn Vorst\nPurdue Federal Credit Union\nRoeing Corporation
URL:https://adultlearnersinc.org/event/spelling-bee/
LOCATION:Community Schools of Frankfort Auxiliary Gym\, 1 S Maish Rd\, Frankfort\, IN\, 46041\, United States
ATTACH;FMTTYPE=image/jpeg:https://adultlearnersinc.org/wp-content/uploads/2017/12/17097206_366518997068092_2847518638268721269_o.jpg
END:VEVENT
END:VCALENDAR